BEGIN:VCALENDAR
VERSION:2.0
PRODID:-//ActiveBury//Events//EN
CALSCALE:GREGORIAN
BEGIN:VEVENT
UID:event-1518@activebury.com
DTSTAMP:20260425T134546Z
SUMMARY:Teen Time: Valentine Painted Rocks
DTSTART:20260227T153000
DTEND:20260227T180000
LOCATION:Ocean Pines Branch Branch: Ocean Pines Branch Audience: 12 to 18 Categories: Crafts
DESCRIPTION:Put your imagination to work! Design a rock with your own design or choose from some valentine-y examples. For ages 12-18. 410-208-4014.\nMore info: https://worcesterlibrary.libcal.com/event/15385648?hs=a\nActiveBury: https://www.activebury.com/events/1518
URL:https://www.activebury.com/events/1518
END:VEVENT
END:VCALENDAR
