BEGIN:VCALENDAR
VERSION:2.0
PRODID:-//ActiveBury//Events//EN
CALSCALE:GREGORIAN
BEGIN:VEVENT
UID:event-1514@activebury.com
DTSTAMP:20260425T133447Z
SUMMARY:Page One\, Virtual Writing Group
DTSTART:20260226T173000
DTEND:20260226T183000
DESCRIPTION:Learn tips and tricks of writing fiction\, nonfiction\, and poetry while offering critiques and receiving feedback from other writers. Register to receive Zoom link. CANCELLED- Check back for spring dates\nMore info: https://worcesterlibrary.libcal.com/event/15366378?hs=a\nActiveBury: https://www.activebury.com/events/1514
URL:https://www.activebury.com/events/1514
END:VEVENT
END:VCALENDAR
