BEGIN:VCALENDAR
VERSION:2.0
PRODID:-//ActiveBury//Events//EN
CALSCALE:GREGORIAN
BEGIN:VEVENT
UID:event-1512@activebury.com
DTSTAMP:20260425T133449Z
SUMMARY:Fireside Chat
DTSTART:20260226T150000
DTEND:20260226T160000
LOCATION:Berlin Branch Branch: Berlin Branch Audience: Adults Categories: Discussion
DESCRIPTION:A popular and entertaining book discussion featuring books you have read and want to share. Come and find your next great read or future favorite! 410-641-0650\nMore info: https://worcesterlibrary.libcal.com/event/15706941?hs=a\nActiveBury: https://www.activebury.com/events/1512
URL:https://www.activebury.com/events/1512
END:VEVENT
END:VCALENDAR
