BEGIN:VCALENDAR
VERSION:2.0
PRODID:-//ActiveBury//Events//EN
CALSCALE:GREGORIAN
BEGIN:VEVENT
UID:event-1511@activebury.com
DTSTAMP:20260425T134546Z
SUMMARY:MD 250 Event: Colonial Crafts: Sachets
DTSTART:20260226T140000
DTEND:20260226T150000
LOCATION:Pocomoke Meeting Room Branch: Pocomoke Branch Audience: Adults Categories: Crafts
DESCRIPTION:Learn about and make sachets.\nMore info: https://worcesterlibrary.libcal.com/event/15219787?hs=a\nActiveBury: https://www.activebury.com/events/1511
URL:https://www.activebury.com/events/1511
END:VEVENT
END:VCALENDAR
