BEGIN:VCALENDAR
VERSION:2.0
PRODID:-//ActiveBury//Events//EN
CALSCALE:GREGORIAN
BEGIN:VEVENT
UID:event-151@activebury.com
DTSTAMP:20260425T133251Z
SUMMARY:Walk with a Doc - February
DTSTART;VALUE=DATE:20260207
DTEND;VALUE=DATE:20260208
LOCATION:Downtown Salisbury
DESCRIPTION:More info: https://walkwithadoc.org/join-a-walk/locations/salisbury-maryland/\nActiveBury: https://www.activebury.com/events/151
URL:https://www.activebury.com/events/151
END:VEVENT
END:VCALENDAR
