BEGIN:VCALENDAR
VERSION:2.0
PRODID:-//ActiveBury//Events//EN
CALSCALE:GREGORIAN
BEGIN:VEVENT
UID:event-1509@activebury.com
DTSTAMP:20260425T134520Z
SUMMARY:Story Time "One Shoe\,Two Shoes"
DTSTART:20260226T103000
DTEND:20260226T113000
LOCATION:Snow Hill Meeting Room Branch: Snow Hill Branch Audience: Birth to 5 Categories: Storytime
DESCRIPTION:Join us for stories\, songs\, and rhymes. Stay to play and socialize. For 2 to 5 year old children.\nMore info: https://worcesterlibrary.libcal.com/event/15292304?hs=a\nActiveBury: https://www.activebury.com/events/1509
URL:https://www.activebury.com/events/1509
END:VEVENT
END:VCALENDAR
