BEGIN:VCALENDAR
VERSION:2.0
PRODID:-//ActiveBury//Events//EN
CALSCALE:GREGORIAN
BEGIN:VEVENT
UID:event-1508@activebury.com
DTSTAMP:20260425T164314Z
SUMMARY:Black History Month Scavenger Hunt
DTSTART:20260226T090000
DTEND:20260226T170000
LOCATION:Ocean Pines Branch Branch: Ocean Pines Branch Audience: 6 to 11 Categories: Games
DESCRIPTION:Discover famous African-Americans and their achievements around the library! One prize per child. For ages 6-11. 410-208-4014.\nMore info: https://worcesterlibrary.libcal.com/event/15385774?hs=a\nActiveBury: https://www.activebury.com/events/1508
URL:https://www.activebury.com/events/1508
END:VEVENT
END:VCALENDAR
