BEGIN:VCALENDAR
VERSION:2.0
PRODID:-//ActiveBury//Events//EN
CALSCALE:GREGORIAN
BEGIN:VEVENT
UID:event-1505@activebury.com
DTSTAMP:20260425T164325Z
SUMMARY:Kevin's Bistro Food Truck
DTSTART:20260228T100000
DTEND:20260228T160000
LOCATION:The Mill of Hampstead Address: 607 Hanover Pike\, Hampstead\, MD 21074 Join us at The Mill of Hampstead on Saturday\, February 28 from 10:00 AM to 4:00 PM as we welcome Kevin’s Bistro Mobile Food Truck b
DESCRIPTION:Join us at The Mill of Hampstead on Saturday\, February 28 from 10:00 AM to 4:00 PM as we welcome Kevin’s Bistro Mobile Food Truck back to the store with a special brunch food menu .\n\nStop by for fresh\, flavorful brunch favorites while you shop\, run errands\, or enjoy the day at The Mill. It’s the perfect chance to grab a great meal and support a local food truck.\n\nWe look forward to seeing you at The Mill of Hampstead for a great day of food and community!\nMore info: https://www.themillstores.com/pages/events/kevins-bistro-food-truck\nActiveBury: https://www.activebury.com/events/1505
URL:https://www.activebury.com/events/1505
END:VEVENT
END:VCALENDAR
