BEGIN:VCALENDAR
VERSION:2.0
PRODID:-//ActiveBury//Events//EN
CALSCALE:GREGORIAN
BEGIN:VEVENT
UID:event-1504@activebury.com
DTSTAMP:20260425T133305Z
SUMMARY:Dog Biscuit Decorating
DTSTART:20260228T100000
DTEND:20260228T140000
LOCATION:The Mill of Hereford Address: 17106 York Rd\, Parkton\, MD 21120 Stop by The Mill of Hereford on Saturday\, February 28 \, from 10:00 AM to 2:00 PM for Dog Biscuit Decorating — a fun\, hands-on activity ha
DESCRIPTION:Stop by The Mill of Hereford on Saturday\, February 28 \, from 10:00 AM to 2:00 PM for Dog Biscuit Decorating — a fun\, hands-on activity happening during FFA Day & Customer Appreciation .\n\nBring your pup-loving creativity and decorate dog biscuits while you shop\, visit with FFA members\, and enjoy the day celebrating agriculture and community. It’s a lighthearted activity for dog owners of all ages and a great way to make the day extra special for your four-legged friends.\n\nWe look forward to seeing you — and your pups — at The Mill of Hereford!\nMore info: https://www.themillstores.com/pages/events/dog-biscuit-decorating\nActiveBury: https://www.activebury.com/events/1504
URL:https://www.activebury.com/events/1504
END:VEVENT
END:VCALENDAR
