BEGIN:VCALENDAR
VERSION:2.0
PRODID:-//ActiveBury//Events//EN
CALSCALE:GREGORIAN
BEGIN:VEVENT
UID:event-1503@activebury.com
DTSTAMP:20260425T182741Z
SUMMARY:FFA Day And Customer Appreciation
DTSTART;VALUE=DATE:20260228
DTEND;VALUE=DATE:20260301
LOCATION:The Mill of Hereford Address: 17106 York Rd\, Parkton\, MD 21120 Join us at The Mill of Hereford on Friday\, February 28 for FFA Day & Customer Appreciation ! This special day brings together two things
DESCRIPTION:Join us at The Mill of Hereford on Friday\, February 28 for FFA Day & Customer Appreciation !\n\nThis special day brings together two things we value deeply — supporting FFA and agricultural education \, and showing appreciation for the loyal customers who support The Mill year-round.\n\nStop in to visit with FFA members\, celebrate agriculture in our community\, and enjoy a day dedicated to thanking our customers.\n\nWe look forward to celebrating with you at The Mill of Hereford!\nMore info: https://www.themillstores.com/pages/events/ffa-day-and-customer-appreciation\nActiveBury: https://www.activebury.com/events/1503
URL:https://www.activebury.com/events/1503
END:VEVENT
END:VCALENDAR
