BEGIN:VCALENDAR
VERSION:2.0
PRODID:-//ActiveBury//Events//EN
CALSCALE:GREGORIAN
BEGIN:VEVENT
UID:event-1502@activebury.com
DTSTAMP:20260425T134252Z
SUMMARY:ROLLING PIN WINTER P ALS Paint these cute mini rolling pins to
DTSTART:20260207T100000
LOCATION:Princess Anne
DESCRIPTION:look like a snowman\, penguin\, or anything your imagination comes up with. Stop by the Crisfield and Princess Anne Libraries from 10AM TO 4PM to celebrate with fun crafts and activities! February 7th is Take your Child to the Library Day!\nMore info: https://drive.google.com/file/d/1zZqzELj_ZR73Axbn27gdjOUi8Qkv_iL5/view?usp=sharing\nActiveBury: https://www.activebury.com/events/1502
URL:https://www.activebury.com/events/1502
END:VEVENT
END:VCALENDAR
