BEGIN:VCALENDAR
VERSION:2.0
PRODID:-//ActiveBury//Events//EN
CALSCALE:GREGORIAN
BEGIN:VEVENT
UID:event-1491@activebury.com
DTSTAMP:20260425T134520Z
SUMMARY:ROLLING PIN WINTER P ALS Paint these cute mini rolling pins to
DTSTART:20260210T160000
LOCATION:Princess Anne
DESCRIPTION:look like a snowman\, penguin\, or anything your imagination comes up with. Visit somelibrary.org/programs to request. Oooh La La… Come in and fill your own tasty crepe from a variety of sweet fillings. Available while supplies last. Sweetheart Crepes Princess Anne: Wednesday\, February 4th at 4pm Crisfield: Tuesday\, February 10th at 4pm\nMore info: https://drive.google.com/file/d/1zZqzELj_ZR73Axbn27gdjOUi8Qkv_iL5/view?usp=sharing\nActiveBury: https://www.activebury.com/events/1491
URL:https://www.activebury.com/events/1491
END:VEVENT
END:VCALENDAR
