BEGIN:VCALENDAR
VERSION:2.0
PRODID:-//ActiveBury//Events//EN
CALSCALE:GREGORIAN
BEGIN:VEVENT
UID:event-149@activebury.com
DTSTAMP:20260425T133303Z
SUMMARY:Over 30 Pickup Soccer
DTSTART:20260628T090000
DTEND:20260628T110000
LOCATION:Crown Sports Center
DESCRIPTION:Come join pickup soccer. $10 to play\, come early\nMore info: playatcrown.com/adult-sports/\nActiveBury: https://www.activebury.com/events/149
URL:https://www.activebury.com/events/149
END:VEVENT
END:VCALENDAR
