BEGIN:VCALENDAR
VERSION:2.0
PRODID:-//ActiveBury//Events//EN
CALSCALE:GREGORIAN
BEGIN:VEVENT
UID:event-1489@activebury.com
DTSTAMP:20260425T133418Z
SUMMARY:WEDNESDAY
DTSTART:20260218T180000
LOCATION:Princess Anne
DESCRIPTION:PRINCESS ANNE: WEDNESDAY\, JANUARY 21ST WEDNESDAY\, FEBRUARY 18TH Gaming Come and customize your grilled cheese sandwich and cup of soup to warm you up on a cold winter evening. Available while supplies last. 4:00 -6:00PM Grilled Cheese and Soup Bar CRISFIELD: TUESDAY\, JANUARY 13T H AT 4PM\nMore info: https://drive.google.com/file/d/1zZqzELj_ZR73Axbn27gdjOUi8Qkv_iL5/view?usp=sharing\nActiveBury: https://www.activebury.com/events/1489
URL:https://www.activebury.com/events/1489
END:VEVENT
END:VCALENDAR
