BEGIN:VCALENDAR
VERSION:2.0
PRODID:-//ActiveBury//Events//EN
CALSCALE:GREGORIAN
BEGIN:VEVENT
UID:event-1488@activebury.com
DTSTAMP:20260425T134004Z
SUMMARY:Get your game on with the Switch\, Xbox\, laptops\, tabletop games and
DTSTART;VALUE=DATE:20260217
DTEND;VALUE=DATE:20260218
LOCATION:Crisfield
DESCRIPTION:more! Drop -in sessions are also available for Xbox\, please see the front desk. CRISFIELD: TUESDAY\, JANUARY 20T H TUESDAY\, FEBRUARY 17 TH\nMore info: https://drive.google.com/file/d/1zZqzELj_ZR73Axbn27gdjOUi8Qkv_iL5/view?usp=sharing\nActiveBury: https://www.activebury.com/events/1488
URL:https://www.activebury.com/events/1488
END:VEVENT
END:VCALENDAR
