BEGIN:VCALENDAR
VERSION:2.0
PRODID:-//ActiveBury//Events//EN
CALSCALE:GREGORIAN
BEGIN:VEVENT
UID:event-1487@activebury.com
DTSTAMP:20260425T133949Z
SUMMARY:QUIL TERS\, STITCHERS & MORE PRINCESS ANNE Friday
DTSTART:20260227T100000
LOCATION:Princess Anne
DESCRIPTION:\, February 27th at 10am Whether you're an experienced quilter\, a seasoned stitcher\, or just starting out\, this friendly gathering is the perfect place to share ideas\, learn new techniques\, and work on projects together. MINI BLOCK LOVE ANGE LS Use a small piece of wood and hearts to create an adorable Valentine angel.\nMore info: https://drive.google.com/file/d/1zZqzELj_ZR73Axbn27gdjOUi8Qkv_iL5/view?usp=sharing\nActiveBury: https://www.activebury.com/events/1487
URL:https://www.activebury.com/events/1487
END:VEVENT
END:VCALENDAR
