BEGIN:VCALENDAR
VERSION:2.0
PRODID:-//ActiveBury//Events//EN
CALSCALE:GREGORIAN
BEGIN:VEVENT
UID:event-1486@activebury.com
DTSTAMP:20260425T134004Z
SUMMARY:PROGRAMS TO GO Visit somelibrary.org/programs to request. MAHJONG CLUB CRISFIELD Tuesday
DTSTART:20260224T160000
LOCATION:Crisfield
DESCRIPTION:\, February 24th 2 -4pm Join us for some Mahjong fun! Whether you are a beginner or a seasoned player\, all are welcome. If you have a set of American tiles\, feel free to bring them.\nMore info: https://drive.google.com/file/d/1zZqzELj_ZR73Axbn27gdjOUi8Qkv_iL5/view?usp=sharing\nActiveBury: https://www.activebury.com/events/1486
URL:https://www.activebury.com/events/1486
END:VEVENT
END:VCALENDAR
