BEGIN:VCALENDAR
VERSION:2.0
PRODID:-//ActiveBury//Events//EN
CALSCALE:GREGORIAN
BEGIN:VEVENT
UID:event-1485@activebury.com
DTSTAMP:20260425T133415Z
SUMMARY:3D PRINTING WORKSHOP CRISFIELD Monday
DTSTART:20260223T110000
LOCATION:Crisfield
DESCRIPTION:\, February 23rd at 11am Learn about the different types of 3D printing. Discover where to find free files to print and even create your own!\nMore info: https://drive.google.com/file/d/1zZqzELj_ZR73Axbn27gdjOUi8Qkv_iL5/view?usp=sharing\nActiveBury: https://www.activebury.com/events/1485
URL:https://www.activebury.com/events/1485
END:VEVENT
END:VCALENDAR
