BEGIN:VCALENDAR
VERSION:2.0
PRODID:-//ActiveBury//Events//EN
CALSCALE:GREGORIAN
BEGIN:VEVENT
UID:event-1484@activebury.com
DTSTAMP:20260425T134530Z
SUMMARY:SCAM AND FRAUD PREVE NTION CRISFIELD Friday
DTSTART:20260220T110000
LOCATION:Crisfield
DESCRIPTION:\, February 20th at 11am Learn about scams\, how to prevent fraud\, and ways to stay safe online. Registration required.\nMore info: https://drive.google.com/file/d/1zZqzELj_ZR73Axbn27gdjOUi8Qkv_iL5/view?usp=sharing\nActiveBury: https://www.activebury.com/events/1484
URL:https://www.activebury.com/events/1484
END:VEVENT
END:VCALENDAR
