BEGIN:VCALENDAR
VERSION:2.0
PRODID:-//ActiveBury//Events//EN
CALSCALE:GREGORIAN
BEGIN:VEVENT
UID:event-1483@activebury.com
DTSTAMP:20260425T133949Z
SUMMARY:GENEALOGY WORKSHOP CRISFIELD Thursday
DTSTART:20260219T110000
LOCATION:Crisfield
DESCRIPTION:\, February 19th at 11am Join us as we learn to begin researching family history and ancestry Registration required.\nMore info: https://drive.google.com/file/d/1zZqzELj_ZR73Axbn27gdjOUi8Qkv_iL5/view?usp=sharing\nActiveBury: https://www.activebury.com/events/1483
URL:https://www.activebury.com/events/1483
END:VEVENT
END:VCALENDAR
