BEGIN:VCALENDAR
VERSION:2.0
PRODID:-//ActiveBury//Events//EN
CALSCALE:GREGORIAN
BEGIN:VEVENT
UID:event-1482@activebury.com
DTSTAMP:20260425T133946Z
SUMMARY:BOOK DISCUSSION PRINCESS ANNE Wednesday
DTSTART:20260218T140000
LOCATION:Princess Anne
DESCRIPTION:\, February 18th at 2pm Celebrate Black History Month by reading a book by an African American author\, then share it with the group.\nMore info: https://drive.google.com/file/d/1zZqzELj_ZR73Axbn27gdjOUi8Qkv_iL5/view?usp=sharing\nActiveBury: https://www.activebury.com/events/1482
URL:https://www.activebury.com/events/1482
END:VEVENT
END:VCALENDAR
