BEGIN:VCALENDAR
VERSION:2.0
PRODID:-//ActiveBury//Events//EN
CALSCALE:GREGORIAN
BEGIN:VEVENT
UID:event-1481@activebury.com
DTSTAMP:20260425T134003Z
SUMMARY:GENEALOGY WORKSHOP PRINCESS ANNE Wednesday
DTSTART:20260218T110000
LOCATION:Princess Anne
DESCRIPTION:\, February 18th at 11am Join us as we learn to begin researching family history and ancestry. Registration required.\nMore info: https://drive.google.com/file/d/1zZqzELj_ZR73Axbn27gdjOUi8Qkv_iL5/view?usp=sharing\nActiveBury: https://www.activebury.com/events/1481
URL:https://www.activebury.com/events/1481
END:VEVENT
END:VCALENDAR
