BEGIN:VCALENDAR
VERSION:2.0
PRODID:-//ActiveBury//Events//EN
CALSCALE:GREGORIAN
BEGIN:VEVENT
UID:event-1480@activebury.com
DTSTAMP:20260425T133946Z
SUMMARY:SCAM AND FRAUD PREVE NTION PRINCESS ANNE Tuesday
DTSTART:20260217T110000
LOCATION:Princess Anne
DESCRIPTION:\, February 17th at 11am Learn about scams\, how to prevent fraud\, and ways to stay safe online. Registration required.\nMore info: https://drive.google.com/file/d/1zZqzELj_ZR73Axbn27gdjOUi8Qkv_iL5/view?usp=sharing\nActiveBury: https://www.activebury.com/events/1480
URL:https://www.activebury.com/events/1480
END:VEVENT
END:VCALENDAR
