BEGIN:VCALENDAR
VERSION:2.0
PRODID:-//ActiveBury//Events//EN
CALSCALE:GREGORIAN
BEGIN:VEVENT
UID:event-1479@activebury.com
DTSTAMP:20260425T133902Z
SUMMARY:BOOK DISCUSSION CRISFIELD Thursday
DTSTART:20260212T140000
LOCATION:Crisfield
DESCRIPTION:\, February 12th at 2pm Celebrate Black History Month by reading a book by an African American author\, then share it with the group.\nMore info: https://drive.google.com/file/d/1zZqzELj_ZR73Axbn27gdjOUi8Qkv_iL5/view?usp=sharing\nActiveBury: https://www.activebury.com/events/1479
URL:https://www.activebury.com/events/1479
END:VEVENT
END:VCALENDAR
