BEGIN:VCALENDAR
VERSION:2.0
PRODID:-//ActiveBury//Events//EN
CALSCALE:GREGORIAN
BEGIN:VEVENT
UID:event-1477@activebury.com
DTSTAMP:20260425T134005Z
SUMMARY:HEROES\, HEROINES AND HANGOUTS: FANTASY BOOK CLUB PRINCESS ANNE Tuesday
DTSTART:20260210T173000
LOCATION:Princess Anne
DESCRIPTION:\, February 10th at 5:30pm Do you like all things magical and mystical? This month we will be delving into Legends & Lattes by Travis Baldree.\nMore info: https://drive.google.com/file/d/1zZqzELj_ZR73Axbn27gdjOUi8Qkv_iL5/view?usp=sharing\nActiveBury: https://www.activebury.com/events/1477
URL:https://www.activebury.com/events/1477
END:VEVENT
END:VCALENDAR
