BEGIN:VCALENDAR
VERSION:2.0
PRODID:-//ActiveBury//Events//EN
CALSCALE:GREGORIAN
BEGIN:VEVENT
UID:event-1476@activebury.com
DTSTAMP:20260425T134520Z
SUMMARY:ALCOHOL INK SCARF CRISFIELD Monday
DTSTART:20260209T110000
LOCATION:Crisfield
DESCRIPTION:\, February 9th at 11am When using alcohol inks\, you can paint\, drip or dye your scarf! Add drops of alcohol to make the colors spread. Registration required.\nMore info: https://drive.google.com/file/d/1zZqzELj_ZR73Axbn27gdjOUi8Qkv_iL5/view?usp=sharing\nActiveBury: https://www.activebury.com/events/1476
URL:https://www.activebury.com/events/1476
END:VEVENT
END:VCALENDAR
