BEGIN:VCALENDAR
VERSION:2.0
PRODID:-//ActiveBury//Events//EN
CALSCALE:GREGORIAN
BEGIN:VEVENT
UID:event-1475@activebury.com
DTSTAMP:20260425T133941Z
SUMMARY:LET’S TALK VERITY PRINCESS ANNE Saturday
DTSTART:20260207T110000
LOCATION:Princess Anne
DESCRIPTION:\, February 7th at 11am Spicy alert! We are hosting a book discussion for readers 18 and older for the month of love. Join us for a "heated" discussion on Verity by Colleen Hoover. This title features romance and spice with a mystery twist and a touch of psychological thrill! Copies will be available at the circulation desk.\nMore info: https://drive.google.com/file/d/1zZqzELj_ZR73Axbn27gdjOUi8Qkv_iL5/view?usp=sharing\nActiveBury: https://www.activebury.com/events/1475
URL:https://www.activebury.com/events/1475
END:VEVENT
END:VCALENDAR
