BEGIN:VCALENDAR
VERSION:2.0
PRODID:-//ActiveBury//Events//EN
CALSCALE:GREGORIAN
BEGIN:VEVENT
UID:event-1474@activebury.com
DTSTAMP:20260425T165026Z
SUMMARY:BINGO CRISFIELD & PRINCESS ANNE Friday
DTSTART:20260206T110000
LOCATION:Princess Anne
DESCRIPTION:\, February 6th at 11am Get ready for a fun and relaxing morning of bingo at the library! Join us for an hour of bingo fun\, where you can play for small prizes and socialize with friends.\nMore info: https://drive.google.com/file/d/1zZqzELj_ZR73Axbn27gdjOUi8Qkv_iL5/view?usp=sharing\nActiveBury: https://www.activebury.com/events/1474
URL:https://www.activebury.com/events/1474
END:VEVENT
END:VCALENDAR
