BEGIN:VCALENDAR
VERSION:2.0
PRODID:-//ActiveBury//Events//EN
CALSCALE:GREGORIAN
BEGIN:VEVENT
UID:event-1473@activebury.com
DTSTAMP:20260425T133948Z
SUMMARY:MAHJONG CLUB CRISFIELD Thursday
DTSTART:20260205T110000
DTEND:20260205T130000
LOCATION:Crisfield
DESCRIPTION:\, February 5th 11am -1pm Join us for some Mahjong fun! Whether you are a beginner or a seasoned player\, all are welcome. If you have a set of American tiles\, feel free to bring them.\nMore info: https://drive.google.com/file/d/1zZqzELj_ZR73Axbn27gdjOUi8Qkv_iL5/view?usp=sharing\nActiveBury: https://www.activebury.com/events/1473
URL:https://www.activebury.com/events/1473
END:VEVENT
END:VCALENDAR
