BEGIN:VCALENDAR
VERSION:2.0
PRODID:-//ActiveBury//Events//EN
CALSCALE:GREGORIAN
BEGIN:VEVENT
UID:event-1472@activebury.com
DTSTAMP:20260425T133902Z
SUMMARY:VALENTINE CANDY TOPI ARY PRINCESS ANNE Wednesday
DTSTART:20260204T110000
LOCATION:Princess Anne
DESCRIPTION:\, February 4th at 11am Come learn fun ways to turn sweets into a topiary for the sweets in your life. Everyone will make one candy topiary to give or keep. Registration required.\nMore info: https://drive.google.com/file/d/1zZqzELj_ZR73Axbn27gdjOUi8Qkv_iL5/view?usp=sharing\nActiveBury: https://www.activebury.com/events/1472
URL:https://www.activebury.com/events/1472
END:VEVENT
END:VCALENDAR
