BEGIN:VCALENDAR
VERSION:2.0
PRODID:-//ActiveBury//Events//EN
CALSCALE:GREGORIAN
BEGIN:VEVENT
UID:event-1470@activebury.com
DTSTAMP:20260425T133429Z
SUMMARY:Thursdays
DTSTART;VALUE=DATE:20260205
DTEND;VALUE=DATE:20260206
LOCATION:Crisfield
DESCRIPTION:CRISFIELD: Thursdays\, February 5th\, 12th\, 19th & 26th\nMore info: https://drive.google.com/file/d/1zZqzELj_ZR73Axbn27gdjOUi8Qkv_iL5/view?usp=sharing\nActiveBury: https://www.activebury.com/events/1470
URL:https://www.activebury.com/events/1470
END:VEVENT
END:VCALENDAR
