BEGIN:VCALENDAR
VERSION:2.0
PRODID:-//ActiveBury//Events//EN
CALSCALE:GREGORIAN
BEGIN:VEVENT
UID:event-1466@activebury.com
DTSTAMP:20260425T134006Z
SUMMARY:EQUIPMENT WILL BE AV AILABLE FROM 10:00AM -4:00PM CRISFIELD: Fridays
DTSTART:20260213T100000
DTEND:20260213T160000
LOCATION:Crisfield
DESCRIPTION:\, January 23rd\, February 13th & 27th Saturdays\, January 24th\, February 14th & 28th\nMore info: https://drive.google.com/file/d/1zZqzELj_ZR73Axbn27gdjOUi8Qkv_iL5/view?usp=sharing\nActiveBury: https://www.activebury.com/events/1466
URL:https://www.activebury.com/events/1466
END:VEVENT
END:VCALENDAR
