BEGIN:VCALENDAR
VERSION:2.0
PRODID:-//ActiveBury//Events//EN
CALSCALE:GREGORIAN
BEGIN:VEVENT
UID:event-1465@activebury.com
DTSTAMP:20260425T134530Z
SUMMARY:STORYTIME AT THE MANSION
DTSTART:20260214T110000
LOCATION:Poplar Hill Mansion\, Salisbury\, MD
DESCRIPTION:February 14th at 11:00. Bring the kids to Poplar Hill Mansion and join Karen Earp\, from the Wicomico County Library\, Paul Sarbanes Branch\, for Storytime at the Mansion. It’s Valentine’s Day and that is the theme for our story! We’ll be reading stories\, singing songs\, and we’re making felt woven heart baskets for the children to take with them. Poppy\, the Poplar Hill Sheep will be helping too! Free event. ST. PATRICK’S DAY TEA —– SOLD OUT!!!!\nMore info: https://poplarhillmansion.org/events/\nActiveBury: https://www.activebury.com/events/1465
URL:https://www.activebury.com/events/1465
END:VEVENT
END:VCALENDAR
