BEGIN:VCALENDAR
VERSION:2.0
PRODID:-//ActiveBury//Events//EN
CALSCALE:GREGORIAN
BEGIN:VEVENT
UID:event-1463@activebury.com
DTSTAMP:20260425T143027Z
SUMMARY:No fee on Wildlife Drive\, Presidents Day
DTSTART;VALUE=DATE:20260216
DTEND;VALUE=DATE:20260217
LOCATION:Blackwater NWR Visitor Center\, Cambridge\, MD
DESCRIPTION:No fee on Wildlife Drive\, Presidents Day\nMore info: https://www.friendsofblackwater.org/events.html\nActiveBury: https://www.activebury.com/events/1463
URL:https://www.activebury.com/events/1463
END:VEVENT
END:VCALENDAR
