BEGIN:VCALENDAR
VERSION:2.0
PRODID:-//ActiveBury//Events//EN
CALSCALE:GREGORIAN
BEGIN:VEVENT
UID:event-1461@activebury.com
DTSTAMP:20260425T134003Z
SUMMARY:Free birding walk with Terry Allen\, meet at Visitor Center at 8am
DTSTART:20260201T080000
LOCATION:Blackwater NWR Visitor Center\, Cambridge\, MD
DESCRIPTION:Free birding walk with Terry Allen\, meet at Visitor Center at 8am\nMore info: https://www.friendsofblackwater.org/events.html\nActiveBury: https://www.activebury.com/events/1461
URL:https://www.activebury.com/events/1461
END:VEVENT
END:VCALENDAR
