BEGIN:VCALENDAR
VERSION:2.0
PRODID:-//ActiveBury//Events//EN
CALSCALE:GREGORIAN
BEGIN:VEVENT
UID:event-1460@activebury.com
DTSTAMP:20260425T134008Z
SUMMARY:'Singing Singles' Karaoke Night - Dating Games with Prizes
DTSTART:20260214T190000
DTEND:20260214T190500
LOCATION:Cypress Roots Brewing Company
DESCRIPTION:'Singing Singles' Karaoke Night - Dating Games with Prizes | Cypress Roots Brewing top of page Maryland's Southernmost Brewery Home Taproom Events Book Our Venue About Shop Team In the News Contact About More Use tab to navigate through the menu items. 'Singing Singles' Karaoke Night - Dating Games with Prizes Sat\, Feb 14 | Cypress Roots Brewing Company Registration is closed See other events Time & Location Feb 14\, 2026\, 7:00 PM – 7:05 PM Cypress Roots Brewing Company\, 148 Market St\, Pocomoke City\, MD 21851\, USA Share this event (443) 437-0110 148 Market Street\, Pocomoke City\, MD ©2025 by Cypress Roots Brewing Company. bottom of page\nMore info: https://www.cypressrootsbrewing.com/event-details/singing-singles-karaoke-night-dating-games-with-prizes\nActiveBury: https://www.activebury.com/events/1460
URL:https://www.activebury.com/events/1460
END:VEVENT
END:VCALENDAR
