BEGIN:VCALENDAR
VERSION:2.0
PRODID:-//ActiveBury//Events//EN
CALSCALE:GREGORIAN
BEGIN:VEVENT
UID:event-1459@activebury.com
DTSTAMP:20260425T133439Z
SUMMARY:Mindful Yoga
DTSTART:20260227T103000
DTEND:20260227T113000
LOCATION:Central Branch Denton
DESCRIPTION:Caroline County Public Library Presents: Mindful Yoga for Overall Well-Being\nMore info: https://carolinecounty.librarycalendar.com/event/mindful-yoga-1967\nActiveBury: https://www.activebury.com/events/1459
URL:https://www.activebury.com/events/1459
END:VEVENT
END:VCALENDAR
