BEGIN:VCALENDAR
VERSION:2.0
PRODID:-//ActiveBury//Events//EN
CALSCALE:GREGORIAN
BEGIN:VEVENT
UID:event-1458@activebury.com
DTSTAMP:20260425T134024Z
SUMMARY:Popular Hill Mansion Red\, White and Blue Tea
DTSTART;VALUE=DATE:20260718
DTEND;VALUE=DATE:20260719
LOCATION:Wicomico County
DESCRIPTION:Come see beautiful quilts at the America250 Quilt Show\, showcasing American themes with categories to vote on. This non-juried outdoor event is free to attend.\nMore info: https://poplarhillmansion.org/events/\nActiveBury: https://www.activebury.com/events/1458
URL:https://www.activebury.com/events/1458
END:VEVENT
END:VCALENDAR
