BEGIN:VCALENDAR
VERSION:2.0
PRODID:-//ActiveBury//Events//EN
CALSCALE:GREGORIAN
BEGIN:VEVENT
UID:event-1457@activebury.com
DTSTAMP:20260425T183441Z
SUMMARY:Popular Hill Mansion Festival: Celebrating Over 200 Years of History
DTSTART;VALUE=DATE:20260521
DTEND;VALUE=DATE:20260522
LOCATION:Wicomico County
DESCRIPTION:Bring the kids to Poplar Hill Mansion for a special Storytime event themed around Valentine's Day\, featuring stories\, songs\, and a crafting activity with help from Poppy\, the Poplar Hill Sheep.\nMore info: https://poplarhillmansion.org/events/\nActiveBury: https://www.activebury.com/events/1457
URL:https://www.activebury.com/events/1457
END:VEVENT
END:VCALENDAR
