BEGIN:VCALENDAR
VERSION:2.0
PRODID:-//ActiveBury//Events//EN
CALSCALE:GREGORIAN
BEGIN:VEVENT
UID:event-1456@activebury.com
DTSTAMP:20260425T154245Z
SUMMARY:High Noon – A Tribute to Lynyrd Skynyrd + Southern Rock Dinner + Show
DTSTART;VALUE=DATE:20260425
DTEND;VALUE=DATE:20260426
LOCATION:Wicomico County
DESCRIPTION:Join High Noon for a tribute to Lynyrd Skynyrd and Southern rock with a dinner and show on April 24. Enjoy classic hits and a menu featuring fried chicken and more. Doors open at 6:30 p.m. and the show starts at 7:30 p.m.\nMore info: https://www.wicomicociviccenter.org/schedule-of-events/high-noon---a-tribute-to-lynyrd-skynyrd---southern-rock-dinner---show-1\nActiveBury: https://www.activebury.com/events/1456
URL:https://www.activebury.com/events/1456
END:VEVENT
END:VCALENDAR
