BEGIN:VCALENDAR
VERSION:2.0
PRODID:-//ActiveBury//Events//EN
CALSCALE:GREGORIAN
BEGIN:VEVENT
UID:event-1454@activebury.com
DTSTAMP:20260425T182427Z
SUMMARY:Flo Rida
DTSTART;VALUE=DATE:20260404
DTEND;VALUE=DATE:20260405
LOCATION:Wicomico County
DESCRIPTION:More info: https://www.wicomicociviccenter.org/schedule-of-events/flo-rida\nActiveBury: https://www.activebury.com/events/1454
URL:https://www.activebury.com/events/1454
END:VEVENT
END:VCALENDAR
