BEGIN:VCALENDAR
VERSION:2.0
PRODID:-//ActiveBury//Events//EN
CALSCALE:GREGORIAN
BEGIN:VEVENT
UID:event-1453@activebury.com
DTSTAMP:20260425T213449Z
SUMMARY:Popular Hill Mansion Exhibit Grand Opening
DTSTART;VALUE=DATE:20260403
DTEND;VALUE=DATE:20260404
LOCATION:Wicomico County
DESCRIPTION:More info: https://poplarhillmansion.org/events/\nActiveBury: https://www.activebury.com/events/1453
URL:https://www.activebury.com/events/1453
END:VEVENT
END:VCALENDAR
