BEGIN:VCALENDAR
VERSION:2.0
PRODID:-//ActiveBury//Events//EN
CALSCALE:GREGORIAN
BEGIN:VEVENT
UID:event-1451@activebury.com
DTSTAMP:20260425T183456Z
SUMMARY:Jesse Garron’s Tribute to Elvis Dinner + Show
DTSTART;VALUE=DATE:20260328
DTEND;VALUE=DATE:20260329
LOCATION:Wicomico County
DESCRIPTION:More info: https://www.wicomicociviccenter.org/schedule-of-events/jesse-garron-s-tribute-to-elvis-dinner---show\nActiveBury: https://www.activebury.com/events/1451
URL:https://www.activebury.com/events/1451
END:VEVENT
END:VCALENDAR
