BEGIN:VCALENDAR
VERSION:2.0
PRODID:-//ActiveBury//Events//EN
CALSCALE:GREGORIAN
BEGIN:VEVENT
UID:event-1450@activebury.com
DTSTAMP:20260425T134531Z
SUMMARY:St. Patrick's Day Tea at Poplar Hill Mansion
DTSTART;VALUE=DATE:20260313
DTEND;VALUE=DATE:20260314
LOCATION:Wicomico County
DESCRIPTION:More info: https://www.facebook.com/events/1695617108270419\nActiveBury: https://www.activebury.com/events/1450
URL:https://www.activebury.com/events/1450
END:VEVENT
END:VCALENDAR
