BEGIN:VCALENDAR
VERSION:2.0
PRODID:-//ActiveBury//Events//EN
CALSCALE:GREGORIAN
BEGIN:VEVENT
UID:event-1449@activebury.com
DTSTAMP:20260425T133818Z
SUMMARY:Chefs for Habitat Golden Age of Hollywood
DTSTART;VALUE=DATE:20260312
DTEND;VALUE=DATE:20260313
LOCATION:Wicomico County
DESCRIPTION:More info: https://chefsforhabitat.org/\nActiveBury: https://www.activebury.com/events/1449
URL:https://www.activebury.com/events/1449
END:VEVENT
END:VCALENDAR
