BEGIN:VCALENDAR
VERSION:2.0
PRODID:-//ActiveBury//Events//EN
CALSCALE:GREGORIAN
BEGIN:VEVENT
UID:event-141@activebury.com
DTSTAMP:20260425T133256Z
SUMMARY:Over 30 Pickup Soccer
DTSTART:20260503T090000
DTEND:20260503T110000
LOCATION:Crown Sports Center
DESCRIPTION:Come join pickup soccer. $10 to play\, come early\nMore info: playatcrown.com/adult-sports/\nActiveBury: https://www.activebury.com/events/141
URL:https://www.activebury.com/events/141
END:VEVENT
END:VCALENDAR
