BEGIN:VCALENDAR
VERSION:2.0
PRODID:-//ActiveBury//Events//EN
CALSCALE:GREGORIAN
BEGIN:VEVENT
UID:event-1354@activebury.com
DTSTAMP:20260425T182934Z
SUMMARY:Commonwealth Senior Living
DTSTART:20260406T090000
DTEND:20260406T100000
LOCATION:Bookmobile
DESCRIPTION:This event is in the "Everyone" group 9:00am–10:00am Everyone Bookmobile Offsite Event This event is in the "Everyone" group Apr 6 2026 Mon Commonwealth Senior Living 9:00am–10:00am Bookmobile Please note you are looking at an event that has already happened. Bookmobile Everyone 611 Tressler Dr\, Salisbury\nMore info: https://www.wicomicolibrary.org/event/commonwealth-senior-living-23800\nActiveBury: https://www.activebury.com/events/1354
URL:https://www.activebury.com/events/1354
END:VEVENT
END:VCALENDAR
