BEGIN:VCALENDAR
VERSION:2.0
PRODID:-//ActiveBury//Events//EN
CALSCALE:GREGORIAN
BEGIN:VEVENT
UID:event-1353@activebury.com
DTSTAMP:20260425T133904Z
SUMMARY:"Poetry in Pink: Women in Poetry" || The Salisbury Salon Creative Circle
DTSTART:20260404T140000
DTEND:20260404T160000
LOCATION:Centre Branch
DESCRIPTION:This event is in the "Ages 18+" group 2:00pm–4:00pm Ages 18+ Centre Branch Closed Registration Available This event is in the "Ages 18+" group Apr 4 2026 Sat "Poetry in Pink: Women in Poetry" || The Salisbury Salon Creative Circle 2:00pm–4:00pm Centre Branch Closed Please note you are looking at an event that has already happened. Centre Branch The Space at Centre Ages 18+ Book Discussion \, Class or Workshop \, Games \, Guest Speaker or Performance \, Other \, Special Events Registration Available This National Poetry Month\, let’s hear it for the ladies! We’ll walk through pages of poetesses past and present with extra vibrant readings and discussion. || 18+ *****\nMore info: https://www.wicomicolibrary.org/event/placeholder-poetry-event-salisbury-salon-creative-circle-22692\nActiveBury: https://www.activebury.com/events/1353
URL:https://www.activebury.com/events/1353
END:VEVENT
END:VCALENDAR
