BEGIN:VCALENDAR
VERSION:2.0
PRODID:-//ActiveBury//Events//EN
CALSCALE:GREGORIAN
BEGIN:VEVENT
UID:event-1352@activebury.com
DTSTAMP:20260425T133323Z
SUMMARY:Easter Bunny Lego Build
DTSTART:20260402T170000
DTEND:20260402T183000
LOCATION:Centre Branch
DESCRIPTION:This event is in the "Ages 6-11" group This event is in the "Ages 12-18" group 5:00pm–6:30pm Ages 6-11\, Ages 12-18 Centre Branch Closed Registration Available This event is in the "Ages 6-11" group This event is in the "Ages 12-18" group Apr 2 2026 Thu Easter Bunny Lego Build 5:00pm–6:30pm Centre Branch Closed Please note you are looking at an event that has already happened. Centre Branch The Storybook Room Ages 6-11 \, Ages 12-18 Registration Available Celebrate Easter at Centre Branch by Building your very own Bunny! Bring your creativity and whimsy as you build a Lego Bunny the color of your choice! Registration Required as seating is limited.\nMore info: https://www.wicomicolibrary.org/event/easter-bunny-lego-build-23190\nActiveBury: https://www.activebury.com/events/1352
URL:https://www.activebury.com/events/1352
END:VEVENT
END:VCALENDAR
