BEGIN:VCALENDAR
VERSION:2.0
PRODID:-//ActiveBury//Events//EN
CALSCALE:GREGORIAN
BEGIN:VEVENT
UID:event-1351@activebury.com
DTSTAMP:20260425T133433Z
SUMMARY:Puzzle Power Hour
DTSTART:20260401T173000
DTEND:20260401T183000
LOCATION:Centre Branch
DESCRIPTION:This event is in the "Ages 18+" group 5:30pm–6:30pm Ages 18+ Centre Branch This event is in the "Ages 18+" group Apr 1 2026 Wed Puzzle Power Hour 5:30pm–6:30pm Centre Branch Please note you are looking at an event that has already happened. Centre Branch The Space at Centre Ages 18+ Games Come relax at the Centre Branch by jumping in with a puzzle hour!\nMore info: https://www.wicomicolibrary.org/event/puzzle-power-hour-23005\nActiveBury: https://www.activebury.com/events/1351
URL:https://www.activebury.com/events/1351
END:VEVENT
END:VCALENDAR
